BEGIN:VCALENDAR
VERSION:2.0
METHOD:PUBLISH
BEGIN:VEVENT
DTSTART:20161118T140000Z
DTEND:20161119T170000Z
LOCATION:Athens, GA 30606
TRANSP: OPAQUE
SEQUENCE:0
UID:
DTSTAMP:20260425T102712Z
SUMMARY:SALE SALE SALE!!!!
DESCRIPTION:SALE SALE SALE!!!! Transitioning America 
UID:1777134432
STREET-ADDRESS:See website
POSTAL-CODE:30606
LOCALITY:Athens
REGION:ABBREV=GA
COUNTRY:ABBREV=US;ABBREV=USA:United States
URL;TYPE=Event Listing:https://estatesales.org/estate-sales/ga/athens/30606/sale-sale-sale-1033951
PRIORITY:1
CLASS:PUBLIC
SEQUENCE:0
STATUS:CONFIRMED
TRANSP:OPAQUE
END:VEVENT
END:VCALENDAR
