BEGIN:VCALENDAR
VERSION:2.0
METHOD:PUBLISH
BEGIN:VEVENT
DTSTART:20161118T140000Z
DTEND:20161119T210000Z
LOCATION:Saint Louis, MO 63125
TRANSP: OPAQUE
SEQUENCE:0
UID:
DTSTAMP:20260419T105905Z
SUMMARY:Lemay Estate Sale by Pennies In Your Pocket
DESCRIPTION:Lemay Estate Sale by Pennies In Your Pocket Pennies In Your Pocket Estate Sale and Appraisal Services 
UID:1776617945
STREET-ADDRESS:See website
POSTAL-CODE:63125
LOCALITY:Saint Louis
REGION:ABBREV=MO
COUNTRY:ABBREV=US;ABBREV=USA:United States
URL;TYPE=Event Listing:https://estatesales.org/estate-sales/mo/saint-louis/63125/lemay-estate-sale-by-pennies-1032545
PRIORITY:1
CLASS:PUBLIC
SEQUENCE:0
STATUS:CONFIRMED
TRANSP:OPAQUE
END:VEVENT
END:VCALENDAR
