BEGIN:VCALENDAR
VERSION:2.0
METHOD:PUBLISH
BEGIN:VEVENT
DTSTART:20111118T160000Z
DTEND:20111120T000000Z
LOCATION:Los Angeles, CA 90043
TRANSP: OPAQUE
SEQUENCE:0
UID:
DTSTAMP:20260420T222145Z
SUMMARY:HUGE VINTAGE COLLECTIBLES ESTATE SALE!
DESCRIPTION:HUGE VINTAGE COLLECTIBLES ESTATE SALE! Retro Robin Estate Sales, LLC 
UID:1776745305
STREET-ADDRESS:See website
POSTAL-CODE:90043
LOCALITY:Los Angeles
REGION:ABBREV=CA
COUNTRY:ABBREV=US;ABBREV=USA:United States
URL;TYPE=Event Listing:https://estatesales.org/estate-sales/ca/los-angeles/90043/huge-vintage-collectibles-estate-sale-144096
PRIORITY:1
CLASS:PUBLIC
SEQUENCE:0
STATUS:CONFIRMED
TRANSP:OPAQUE
END:VEVENT
END:VCALENDAR
