BEGIN:VCALENDAR
VERSION:2.0
METHOD:PUBLISH
BEGIN:VEVENT
DTSTART:20231117T170000Z
DTEND:20231120T230000Z
LOCATION:Santa Rosa, CA 95404
TRANSP: OPAQUE
SEQUENCE:0
UID:
DTSTAMP:20260421T125108Z
SUMMARY:SAVE THE DATES WINTER SALE
DESCRIPTION:SAVE THE DATES WINTER SALE SISTERS CONSIGNMENT & BOUTIQUE 
UID:1776797468
STREET-ADDRESS:See website
POSTAL-CODE:95404
LOCALITY:Santa Rosa
REGION:ABBREV=CA
COUNTRY:ABBREV=US;ABBREV=USA:United States
URL;TYPE=Event Listing:https://estatesales.org/estate-sales/ca/santa-rosa/95404/save-the-dates-winter-sale-2255871
PRIORITY:1
CLASS:PUBLIC
SEQUENCE:0
STATUS:CONFIRMED
TRANSP:OPAQUE
END:VEVENT
END:VCALENDAR
