BEGIN:VCALENDAR
VERSION:2.0
METHOD:PUBLISH
BEGIN:VEVENT
DTSTART:20231117T140000Z
DTEND:20231119T220000Z
LOCATION:Canton, CT 06019
TRANSP: OPAQUE
SEQUENCE:0
UID:
DTSTAMP:20260419T104630Z
SUMMARY:Estate Tag Sale
DESCRIPTION:Estate Tag Sale KaminskiAuctions 
UID:1776617190
STREET-ADDRESS:See website
POSTAL-CODE:06019
LOCALITY:Canton
REGION:ABBREV=CT
COUNTRY:ABBREV=US;ABBREV=USA:United States
URL;TYPE=Event Listing:https://estatesales.org/estate-sales/ct/canton/06019/estate-tag-sale-2256331
PRIORITY:1
CLASS:PUBLIC
SEQUENCE:0
STATUS:CONFIRMED
TRANSP:OPAQUE
END:VEVENT
END:VCALENDAR
