BEGIN:VCALENDAR
VERSION:2.0
METHOD:PUBLISH
BEGIN:VEVENT
DTSTART:20221117T140000Z
DTEND:20221117T210000Z
LOCATION:Howell, MI 48855
TRANSP: OPAQUE
SEQUENCE:0
UID:
DTSTAMP:20260423T233440Z
SUMMARY:Wonderful sale in Howell for one day on Thursday, November 17 from 9-4 
DESCRIPTION:Wonderful sale in Howell for one day on Thursday, November 17 from 9-4  Caring Transitions of S.E. Michigan 
UID:1777008880
STREET-ADDRESS:See website
POSTAL-CODE:48855
LOCALITY:Howell
REGION:ABBREV=MI
COUNTRY:ABBREV=US;ABBREV=USA:United States
URL;TYPE=Event Listing:https://estatesales.org/estate-sales/mi/howell/48855/wonderful-sale-in-howell-for-2121107
PRIORITY:1
CLASS:PUBLIC
SEQUENCE:0
STATUS:CONFIRMED
TRANSP:OPAQUE
END:VEVENT
END:VCALENDAR
