BEGIN:VCALENDAR
VERSION:2.0
METHOD:PUBLISH
BEGIN:VEVENT
DTSTART:20181117T190000Z
DTEND:20181118T230000Z
LOCATION:Kenwood, CA 95452
TRANSP: OPAQUE
SEQUENCE:0
UID:
DTSTAMP:20260421T124248Z
SUMMARY:MASSIVE SELL OFF! VINTAGE & COLLECTIBLES
DESCRIPTION:MASSIVE SELL OFF! VINTAGE & COLLECTIBLES The Mystic & The Monk 
UID:1776796968
STREET-ADDRESS:See website
POSTAL-CODE:95452
LOCALITY:Kenwood
REGION:ABBREV=CA
COUNTRY:ABBREV=US;ABBREV=USA:United States
URL;TYPE=Event Listing:https://estatesales.org/estate-sales/ca/kenwood-/95452/massive-sell-off-vintage-collectibles-1592897
PRIORITY:1
CLASS:PUBLIC
SEQUENCE:0
STATUS:CONFIRMED
TRANSP:OPAQUE
END:VEVENT
END:VCALENDAR
