BEGIN:VCALENDAR
VERSION:2.0
METHOD:PUBLISH
BEGIN:VEVENT
DTSTART:20171117T140000Z
DTEND:20171118T210000Z
LOCATION:Thomaston, GA 30286
TRANSP: OPAQUE
SEQUENCE:0
UID:
DTSTAMP:20260419T113716Z
SUMMARY:Thomaston Moving Estate Sale
DESCRIPTION:Thomaston Moving Estate Sale Aging Gracefully Antiques Estate Sales and Consignment 
UID:1776620236
STREET-ADDRESS:See website
POSTAL-CODE:30286
LOCALITY:Thomaston
REGION:ABBREV=GA
COUNTRY:ABBREV=US;ABBREV=USA:United States
URL;TYPE=Event Listing:https://estatesales.org/estate-sales/ga/thomaston/30286/thomaston-moving-estate-sale-1444755
PRIORITY:1
CLASS:PUBLIC
SEQUENCE:0
STATUS:CONFIRMED
TRANSP:OPAQUE
END:VEVENT
END:VCALENDAR
