BEGIN:VCALENDAR
VERSION:2.0
METHOD:PUBLISH
BEGIN:VEVENT
DTSTART:20161117T170000Z
DTEND:20161119T230000Z
LOCATION:Denver, CO 80233
TRANSP: OPAQUE
SEQUENCE:0
UID:
DTSTAMP:20260422T131740Z
SUMMARY:Karl's Dairy Estate Sale - 50% OFF
DESCRIPTION:Karl's Dairy Estate Sale - 50% OFF TCS Estate Sales 
UID:1776885460
STREET-ADDRESS:See website
POSTAL-CODE:80233
LOCALITY:Denver
REGION:ABBREV=CO
COUNTRY:ABBREV=US;ABBREV=USA:United States
URL;TYPE=Event Listing:https://estatesales.org/estate-sales/co/denver/80233/karls-dairy-estate-sale-50-1031993
PRIORITY:1
CLASS:PUBLIC
SEQUENCE:0
STATUS:CONFIRMED
TRANSP:OPAQUE
END:VEVENT
END:VCALENDAR
