BEGIN:VCALENDAR
VERSION:2.0
METHOD:PUBLISH
BEGIN:VEVENT
DTSTART:20241116T160000Z
DTEND:20241116T220000Z
LOCATION:Minneapolis, MN 55429
TRANSP: OPAQUE
SEQUENCE:0
UID:
DTSTAMP:20260424T040540Z
SUMMARY:Estate Sale on Twin Lakes Phase 3
DESCRIPTION:Estate Sale on Twin Lakes Phase 3 Moving On Asset Liquidation 
UID:1777025140
STREET-ADDRESS:See website
POSTAL-CODE:55429
LOCALITY:Minneapolis
REGION:ABBREV=MN
COUNTRY:ABBREV=US;ABBREV=USA:United States
URL;TYPE=Event Listing:https://estatesales.org/estate-sales/mn/minneapolis/55429/estate-sale-on-twin-lakes-2349306
PRIORITY:1
CLASS:PUBLIC
SEQUENCE:0
STATUS:CONFIRMED
TRANSP:OPAQUE
END:VEVENT
END:VCALENDAR
