BEGIN:VCALENDAR
VERSION:2.0
METHOD:PUBLISH
BEGIN:VEVENT
DTSTART:20241116T140000Z
DTEND:20241116T190000Z
LOCATION:Orange Park, FL 32003
TRANSP: OPAQUE
SEQUENCE:0
UID:
DTSTAMP:20260421T024531Z
SUMMARY:Music to my ears. One Day extravaganza!!!
DESCRIPTION:Music to my ears. One Day extravaganza!!! Legacy Sky Estate Sales 
UID:1776761131
STREET-ADDRESS:See website
POSTAL-CODE:32003
LOCALITY:Orange Park
REGION:ABBREV=FL
COUNTRY:ABBREV=US;ABBREV=USA:United States
URL;TYPE=Event Listing:https://estatesales.org/estate-sales/fl/fleming-island/32003/music-to-my-ears-one-2349404
PRIORITY:1
CLASS:PUBLIC
SEQUENCE:0
STATUS:CONFIRMED
TRANSP:OPAQUE
END:VEVENT
END:VCALENDAR
