BEGIN:VCALENDAR
VERSION:2.0
METHOD:PUBLISH
BEGIN:VEVENT
DTSTART:20241116T160000Z
DTEND:20241117T200000Z
LOCATION:Bakersfield, CA 93311
TRANSP: OPAQUE
SEQUENCE:0
UID:
DTSTAMP:20260422T120330Z
SUMMARY:Estate Sale- Haggin Oaks- Bakersfield
DESCRIPTION:Estate Sale- Haggin Oaks- Bakersfield Complete Estate Management 
UID:1776881010
STREET-ADDRESS:See website
POSTAL-CODE:93311
LOCALITY:Bakersfield
REGION:ABBREV=CA
COUNTRY:ABBREV=US;ABBREV=USA:United States
URL;TYPE=Event Listing:https://estatesales.org/estate-sales/ca/bakersfield/93311/estate-sale-haggin-oaks-bakersfield-2349773
PRIORITY:1
CLASS:PUBLIC
SEQUENCE:0
STATUS:CONFIRMED
TRANSP:OPAQUE
END:VEVENT
END:VCALENDAR
