BEGIN:VCALENDAR
VERSION:2.0
METHOD:PUBLISH
BEGIN:VEVENT
DTSTART:20231116T130000Z
DTEND:20231118T170000Z
LOCATION:Clearwater, FL 33756
TRANSP: OPAQUE
SEQUENCE:0
UID:
DTSTAMP:20260423T094746Z
SUMMARY:Baby Boomers Clearwater Estate Sale
DESCRIPTION:Baby Boomers Clearwater Estate Sale Baby Boomers Estate Sales 
UID:1776959266
STREET-ADDRESS:See website
POSTAL-CODE:33756
LOCALITY:Clearwater
REGION:ABBREV=FL
COUNTRY:ABBREV=US;ABBREV=USA:United States
URL;TYPE=Event Listing:https://estatesales.org/estate-sales/fl/clearwater/33756/baby-boomers-clearwater-estate-sale-2255421
PRIORITY:1
CLASS:PUBLIC
SEQUENCE:0
STATUS:CONFIRMED
TRANSP:OPAQUE
END:VEVENT
END:VCALENDAR
