BEGIN:VCALENDAR
VERSION:2.0
METHOD:PUBLISH
BEGIN:VEVENT
DTSTART:20181116T150000Z
DTEND:20181118T210000Z
LOCATION:Annandale, VA 22003
TRANSP: OPAQUE
SEQUENCE:0
UID:
DTSTAMP:20260424T133604Z
SUMMARY:COLLECTIBLES, MID CENTURY & ANTIQUES GALORE!!!
DESCRIPTION:COLLECTIBLES, MID CENTURY & ANTIQUES GALORE!!! Great Estate Solutions 
UID:1777059364
STREET-ADDRESS:See website
POSTAL-CODE:22003
LOCALITY:Annandale
REGION:ABBREV=VA
COUNTRY:ABBREV=US;ABBREV=USA:United States
URL;TYPE=Event Listing:https://estatesales.org/estate-sales/va/annandale/22003/collectibles-mid-century-antiques-galore-1589621
PRIORITY:1
CLASS:PUBLIC
SEQUENCE:0
STATUS:CONFIRMED
TRANSP:OPAQUE
END:VEVENT
END:VCALENDAR
