BEGIN:VCALENDAR
VERSION:2.0
METHOD:PUBLISH
BEGIN:VEVENT
DTSTART:20181116T160000Z
DTEND:20181117T190000Z
LOCATION:Hobart, IN 46342
TRANSP: OPAQUE
SEQUENCE:0
UID:
DTSTAMP:20260419T082749Z
SUMMARY:Janet & Bob Grolla Estate-New Dates Happens in November
DESCRIPTION:Janet & Bob Grolla Estate-New Dates Happens in November Auction & Estates by Diana Cook 
UID:1776608869
STREET-ADDRESS:See website
POSTAL-CODE:46342
LOCALITY:Hobart
REGION:ABBREV=IN
COUNTRY:ABBREV=US;ABBREV=USA:United States
URL;TYPE=Event Listing:https://estatesales.org/estate-sales/in/hobart/46342/janet-bob-grolla-estatenew-dates-1586373
PRIORITY:1
CLASS:PUBLIC
SEQUENCE:0
STATUS:CONFIRMED
TRANSP:OPAQUE
END:VEVENT
END:VCALENDAR
