BEGIN:VCALENDAR
VERSION:2.0
METHOD:PUBLISH
BEGIN:VEVENT
DTSTART:20181116T160000Z
DTEND:20181118T230000Z
LOCATION:Grand Junction, CO 81506
TRANSP: OPAQUE
SEQUENCE:0
UID:
DTSTAMP:20260419T152347Z
SUMMARY:HUGE!! TWO Estates in one!!!!
DESCRIPTION:HUGE!! TWO Estates in one!!!! Estate Treasures by Grand Junction Estate Sales 
UID:1776633827
STREET-ADDRESS:See website
POSTAL-CODE:81506
LOCALITY:Grand Junction
REGION:ABBREV=CO
COUNTRY:ABBREV=US;ABBREV=USA:United States
URL;TYPE=Event Listing:https://estatesales.org/estate-sales/co/grand-junction/81506/huge-two-estates-in-one-1595707
PRIORITY:1
CLASS:PUBLIC
SEQUENCE:0
STATUS:CONFIRMED
TRANSP:OPAQUE
END:VEVENT
END:VCALENDAR
