BEGIN:VCALENDAR
VERSION:2.0
METHOD:PUBLISH
BEGIN:VEVENT
DTSTART:20181116T170000Z
DTEND:20181119T000000Z
LOCATION:Petaluma, CA 94952
TRANSP: OPAQUE
SEQUENCE:0
UID:
DTSTAMP:20260421T142430Z
SUMMARY:Petaluma Time Capsule Estate Sale - Home of Former Butcher / Auctioneer
DESCRIPTION:Petaluma Time Capsule Estate Sale - Home of Former Butcher / Auctioneer Green and Cate Inc 
UID:1776803070
STREET-ADDRESS:See website
POSTAL-CODE:94952
LOCALITY:Petaluma
REGION:ABBREV=CA
COUNTRY:ABBREV=US;ABBREV=USA:United States
URL;TYPE=Event Listing:https://estatesales.org/estate-sales/ca/petaluma/94952/petaluma-time-capsule-estate-sale-1594835
PRIORITY:1
CLASS:PUBLIC
SEQUENCE:0
STATUS:CONFIRMED
TRANSP:OPAQUE
END:VEVENT
END:VCALENDAR
