BEGIN:VCALENDAR
VERSION:2.0
METHOD:PUBLISH
BEGIN:VEVENT
DTSTART:20181116T140000Z
DTEND:20181117T210000Z
LOCATION:Landis, NC 28088
TRANSP: OPAQUE
SEQUENCE:0
UID:
DTSTAMP:20260420T204704Z
SUMMARY:Estate/Tag sale... Antiques, Furniture,  Glassware
DESCRIPTION:Estate/Tag sale... Antiques, Furniture,  Glassware PARKER AUCTIONS 
UID:1776739624
STREET-ADDRESS:See website
POSTAL-CODE:28088
LOCALITY:Landis
REGION:ABBREV=NC
COUNTRY:ABBREV=US;ABBREV=USA:United States
URL;TYPE=Event Listing:https://estatesales.org/estate-sales/nc/landis/28088/estatetag-sale-antiques-furniture-glassware-1595633
PRIORITY:1
CLASS:PUBLIC
SEQUENCE:0
STATUS:CONFIRMED
TRANSP:OPAQUE
END:VEVENT
END:VCALENDAR
