BEGIN:VCALENDAR
VERSION:2.0
METHOD:PUBLISH
BEGIN:VEVENT
DTSTART:20171116T143000Z
DTEND:20171119T200000Z
LOCATION:Elmwood Park, NJ 07407
TRANSP: OPAQUE
SEQUENCE:0
UID:
DTSTAMP:20260421T124126Z
SUMMARY:Come Fly to Treasures of Yesterday in Elmwood Park
DESCRIPTION:Come Fly to Treasures of Yesterday in Elmwood Park Treasures of Yesterday Estate Sales 
UID:1776796886
STREET-ADDRESS:See website
POSTAL-CODE:07407
LOCALITY:Elmwood Park
REGION:ABBREV=NJ
COUNTRY:ABBREV=US;ABBREV=USA:United States
URL;TYPE=Event Listing:https://estatesales.org/estate-sales/nj/elmwood-park/07407/come-fly-to-treasures-of-1443059
PRIORITY:1
CLASS:PUBLIC
SEQUENCE:0
STATUS:CONFIRMED
TRANSP:OPAQUE
END:VEVENT
END:VCALENDAR
