BEGIN:VCALENDAR
VERSION:2.0
METHOD:PUBLISH
BEGIN:VEVENT
DTSTART:20151116T150000Z
DTEND:20151119T210000Z
LOCATION:Trinity, TX 75862
TRANSP: OPAQUE
SEQUENCE:0
UID:
DTSTAMP:20260424T121831Z
SUMMARY:Superman Comic Book DC Comics Online Auction 11/19/15       
DESCRIPTION:Superman Comic Book DC Comics Online Auction 11/19/15        Asset Marketing Pros, LLC 
UID:1777054711
STREET-ADDRESS:See website
POSTAL-CODE:75862
LOCALITY:Trinity
REGION:ABBREV=TX
COUNTRY:ABBREV=US;ABBREV=USA:United States
URL;TYPE=Event Listing:https://estatesales.org/estate-sales/tx/trinity/75862/superman-comic-book-dc-comics-729375
PRIORITY:1
CLASS:PUBLIC
SEQUENCE:0
STATUS:CONFIRMED
TRANSP:OPAQUE
END:VEVENT
END:VCALENDAR
