BEGIN:VCALENDAR
VERSION:2.0
METHOD:PUBLISH
BEGIN:VEVENT
DTSTART:20251115T180000Z
DTEND:20251116T230000Z
LOCATION:Santa Rosa, CA 95409
TRANSP: OPAQUE
SEQUENCE:0
UID:
DTSTAMP:20260424T063403Z
SUMMARY:Rain or Shine Sun 50% off @12 Santa Claus is coming to Oakmont! Join us for an impressive , Santa centric Estate Sale! 🎄Radko ornaments 🎄
DESCRIPTION:Rain or Shine Sun 50% off @12 Santa Claus is coming to Oakmont! Join us for an impressive , Santa centric Estate Sale! 🎄Radko ornaments 🎄 Estate Liaison Services 
UID:1777034043
STREET-ADDRESS:See website
POSTAL-CODE:95409
LOCALITY:Santa Rosa
REGION:ABBREV=CA
COUNTRY:ABBREV=US;ABBREV=USA:United States
URL;TYPE=Event Listing:https://estatesales.org/estate-sales/ca/santa-rosa/95409/sun-50-off-12-santa-2412110
PRIORITY:1
CLASS:PUBLIC
SEQUENCE:0
STATUS:CONFIRMED
TRANSP:OPAQUE
END:VEVENT
END:VCALENDAR
