BEGIN:VCALENDAR
VERSION:2.0
METHOD:PUBLISH
BEGIN:VEVENT
DTSTART:20241115T140000Z
DTEND:20241117T180000Z
LOCATION:Miami, FL 33196
TRANSP: OPAQUE
SEQUENCE:0
UID:
DTSTAMP:20260425T122729Z
SUMMARY:WEST KENDALL TREASURE TROVE
DESCRIPTION:WEST KENDALL TREASURE TROVE Barreto Estate Sales 
UID:1777141649
STREET-ADDRESS:See website
POSTAL-CODE:33196
LOCALITY:Miami
REGION:ABBREV=FL
COUNTRY:ABBREV=US;ABBREV=USA:United States
URL;TYPE=Event Listing:https://estatesales.org/estate-sales/fl/miami/33196/west-kendall-treasure-trove-2349570
PRIORITY:1
CLASS:PUBLIC
SEQUENCE:0
STATUS:CONFIRMED
TRANSP:OPAQUE
END:VEVENT
END:VCALENDAR
