BEGIN:VCALENDAR
VERSION:2.0
METHOD:PUBLISH
BEGIN:VEVENT
DTSTART:20241115T160000Z
DTEND:20241116T220000Z
LOCATION:Palm Desert, CA 92211
TRANSP: OPAQUE
SEQUENCE:0
UID:
DTSTAMP:20260421T092753Z
SUMMARY:Palm Springs Estate Sales
DESCRIPTION:Palm Springs Estate Sales Palm Springs Estate Sales 
UID:1776785273
STREET-ADDRESS:See website
POSTAL-CODE:92211
LOCALITY:Palm Desert
REGION:ABBREV=CA
COUNTRY:ABBREV=US;ABBREV=USA:United States
URL;TYPE=Event Listing:https://estatesales.org/estate-sales/ca/palm-desert/92211/palm-springs-estate-sales-2350054
PRIORITY:1
CLASS:PUBLIC
SEQUENCE:0
STATUS:CONFIRMED
TRANSP:OPAQUE
END:VEVENT
END:VCALENDAR
