BEGIN:VCALENDAR
VERSION:2.0
METHOD:PUBLISH
BEGIN:VEVENT
DTSTART:20191115T160000Z
DTEND:20191116T220000Z
LOCATION:Wayne, IL 60184
TRANSP: OPAQUE
SEQUENCE:0
UID:
DTSTAMP:20260423T093026Z
SUMMARY:Concierge Estates - The ABSOLUTE Best Sports Memorabilia Sale
DESCRIPTION:Concierge Estates - The ABSOLUTE Best Sports Memorabilia Sale Concierge Estate Services 
UID:1776958226
STREET-ADDRESS:See website
POSTAL-CODE:60184
LOCALITY:Wayne
REGION:ABBREV=IL
COUNTRY:ABBREV=US;ABBREV=USA:United States
URL;TYPE=Event Listing:https://estatesales.org/estate-sales/il/wayne/60184/concierge-estates-the-absolute-best-1740563
PRIORITY:1
CLASS:PUBLIC
SEQUENCE:0
STATUS:CONFIRMED
TRANSP:OPAQUE
END:VEVENT
END:VCALENDAR
