BEGIN:VCALENDAR
VERSION:2.0
METHOD:PUBLISH
BEGIN:VEVENT
DTSTART:20191115T140000Z
DTEND:20191116T200000Z
LOCATION:Summerfield, FL 34491
TRANSP: OPAQUE
SEQUENCE:0
UID:
DTSTAMP:20260420T061044Z
SUMMARY:Sale in Stonecrest 
DESCRIPTION:Sale in Stonecrest  Justice League Estate Sales 
UID:1776687044
STREET-ADDRESS:See website
POSTAL-CODE:34491
LOCALITY:Summerfield
REGION:ABBREV=FL
COUNTRY:ABBREV=US;ABBREV=USA:United States
URL;TYPE=Event Listing:https://estatesales.org/estate-sales/fl/summerfield/34491/sale-in-stonecrest-1734757
PRIORITY:1
CLASS:PUBLIC
SEQUENCE:0
STATUS:CONFIRMED
TRANSP:OPAQUE
END:VEVENT
END:VCALENDAR
