BEGIN:VCALENDAR
VERSION:2.0
METHOD:PUBLISH
BEGIN:VEVENT
DTSTART:20191115T153000Z
DTEND:20191117T210000Z
LOCATION:Glendale, AZ 85304
TRANSP: OPAQUE
SEQUENCE:0
UID:
DTSTAMP:20260420T061044Z
SUMMARY:50% OFF Rustic Phoenix Estate Sale
DESCRIPTION:50% OFF Rustic Phoenix Estate Sale Blue Barn Estate Sales 
UID:1776687044
STREET-ADDRESS:See website
POSTAL-CODE:85304
LOCALITY:Glendale
REGION:ABBREV=AZ
COUNTRY:ABBREV=US;ABBREV=USA:United States
URL;TYPE=Event Listing:https://estatesales.org/estate-sales/az/glendale/85304/50-off-rustic-phoenix-estate-1731841
PRIORITY:1
CLASS:PUBLIC
SEQUENCE:0
STATUS:CONFIRMED
TRANSP:OPAQUE
END:VEVENT
END:VCALENDAR
