BEGIN:VCALENDAR
VERSION:2.0
METHOD:PUBLISH
BEGIN:VEVENT
DTSTART:20251114T140000Z
DTEND:20251116T180000Z
LOCATION:Saint Petersburg, FL 33709
TRANSP: OPAQUE
SEQUENCE:0
UID:
DTSTAMP:20260423T094743Z
SUMMARY:Baby Boomers Kenneth City Estate Sale
DESCRIPTION:Baby Boomers Kenneth City Estate Sale Baby Boomers Estate Sales 
UID:1776959263
STREET-ADDRESS:See website
POSTAL-CODE:33709
LOCALITY:Saint Petersburg
REGION:ABBREV=FL
COUNTRY:ABBREV=US;ABBREV=USA:United States
URL;TYPE=Event Listing:https://estatesales.org/estate-sales/fl/saint-petersburg/33709/baby-boomers-kenneth-city-estate-2411864
PRIORITY:1
CLASS:PUBLIC
SEQUENCE:0
STATUS:CONFIRMED
TRANSP:OPAQUE
END:VEVENT
END:VCALENDAR
