BEGIN:VCALENDAR
VERSION:2.0
METHOD:PUBLISH
BEGIN:VEVENT
DTSTART:20251114T150000Z
DTEND:20251115T220000Z
LOCATION:Middleton, WI 53562
TRANSP: OPAQUE
SEQUENCE:0
UID:
DTSTAMP:20260424T200451Z
SUMMARY:Middleton Estate Sale Fri 11/14-Sat 11/15
DESCRIPTION:Middleton Estate Sale Fri 11/14-Sat 11/15 Barth Estate Sales & Services LLC 
UID:1777082691
STREET-ADDRESS:See website
POSTAL-CODE:53562
LOCALITY:Middleton
REGION:ABBREV=WI
COUNTRY:ABBREV=US;ABBREV=USA:United States
URL;TYPE=Event Listing:https://estatesales.org/estate-sales/wi/middleton/53562/middleton-estate-sale-fri-1114sat-2411902
PRIORITY:1
CLASS:PUBLIC
SEQUENCE:0
STATUS:CONFIRMED
TRANSP:OPAQUE
END:VEVENT
END:VCALENDAR
