BEGIN:VCALENDAR
VERSION:2.0
METHOD:PUBLISH
BEGIN:VEVENT
DTSTART:20251114T160000Z
DTEND:20251115T210000Z
LOCATION:Norman, OK 73072
TRANSP: OPAQUE
SEQUENCE:0
UID:
DTSTAMP:20260423T192956Z
SUMMARY:LAST ESTATE SALE FOR THE YEAR!
DESCRIPTION:LAST ESTATE SALE FOR THE YEAR! Clutter Free LLC 
UID:1776994196
STREET-ADDRESS:See website
POSTAL-CODE:73072
LOCALITY:Norman
REGION:ABBREV=OK
COUNTRY:ABBREV=US;ABBREV=USA:United States
URL;TYPE=Event Listing:https://estatesales.org/estate-sales/ok/norman/73072/last-estate-sale-for-the-2412461
PRIORITY:1
CLASS:PUBLIC
SEQUENCE:0
STATUS:CONFIRMED
TRANSP:OPAQUE
END:VEVENT
END:VCALENDAR
