BEGIN:VCALENDAR
VERSION:2.0
METHOD:PUBLISH
BEGIN:VEVENT
DTSTART:20251114T160000Z
DTEND:20251115T200000Z
LOCATION:Norman, OK 73072
TRANSP: OPAQUE
SEQUENCE:0
UID:
DTSTAMP:20260425T113047Z
SUMMARY:Classy and Clean Estate Sale
DESCRIPTION:Classy and Clean Estate Sale Vincent Estate Sales 
UID:1777138247
STREET-ADDRESS:See website
POSTAL-CODE:73072
LOCALITY:Norman
REGION:ABBREV=OK
COUNTRY:ABBREV=US;ABBREV=USA:United States
URL;TYPE=Event Listing:https://estatesales.org/estate-sales/ok/norman-/73072/classy-and-clean-estate-sale-2410516
PRIORITY:1
CLASS:PUBLIC
SEQUENCE:0
STATUS:CONFIRMED
TRANSP:OPAQUE
END:VEVENT
END:VCALENDAR
