BEGIN:VCALENDAR
VERSION:2.0
METHOD:PUBLISH
BEGIN:VEVENT
DTSTART:20251114T160000Z
DTEND:20251115T220000Z
LOCATION:Palm Springs, CA 92262
TRANSP: OPAQUE
SEQUENCE:0
UID:
DTSTAMP:20260421T091912Z
SUMMARY:Estate Sale Palm Springs
DESCRIPTION:Estate Sale Palm Springs Palm Springs Estate Sales 
UID:1776784752
STREET-ADDRESS:See website
POSTAL-CODE:92262
LOCALITY:Palm Springs
REGION:ABBREV=CA
COUNTRY:ABBREV=US;ABBREV=USA:United States
URL;TYPE=Event Listing:https://estatesales.org/estate-sales/ca/palm-springs-/92262/estate-sale-palm-springs-2410937
PRIORITY:1
CLASS:PUBLIC
SEQUENCE:0
STATUS:CONFIRMED
TRANSP:OPAQUE
END:VEVENT
END:VCALENDAR
