BEGIN:VCALENDAR
VERSION:2.0
METHOD:PUBLISH
BEGIN:VEVENT
DTSTART:20241114T130000Z
DTEND:20241116T190000Z
LOCATION:Headland, AL 36345
TRANSP: OPAQUE
SEQUENCE:0
UID:
DTSTAMP:20260419T113815Z
SUMMARY:Big Headland Estate Sale with Antiques and More by Dothan Estate Sales
DESCRIPTION:Big Headland Estate Sale with Antiques and More by Dothan Estate Sales Dothan Estate Sales 
UID:1776620295
STREET-ADDRESS:See website
POSTAL-CODE:36345
LOCALITY:Headland
REGION:ABBREV=AL
COUNTRY:ABBREV=US;ABBREV=USA:United States
URL;TYPE=Event Listing:https://estatesales.org/estate-sales/al/headland/36345/big-headland-estate-sale-with-2337440
PRIORITY:1
CLASS:PUBLIC
SEQUENCE:0
STATUS:CONFIRMED
TRANSP:OPAQUE
END:VEVENT
END:VCALENDAR
