BEGIN:VCALENDAR
VERSION:2.0
METHOD:PUBLISH
BEGIN:VEVENT
DTSTART:20241114T130000Z
DTEND:20241116T180000Z
LOCATION:Springfield, MO 65810
TRANSP: OPAQUE
SEQUENCE:0
UID:
DTSTAMP:20260420T093805Z
SUMMARY:Cox Estate Sale
DESCRIPTION:Cox Estate Sale Christina & Co To The Rescue 
UID:1776699485
STREET-ADDRESS:See website
POSTAL-CODE:65810
LOCALITY:Springfield
REGION:ABBREV=MO
COUNTRY:ABBREV=US;ABBREV=USA:United States
URL;TYPE=Event Listing:https://estatesales.org/estate-sales/mo/springfield/65810/cox-estate-sale-2349451
PRIORITY:1
CLASS:PUBLIC
SEQUENCE:0
STATUS:CONFIRMED
TRANSP:OPAQUE
END:VEVENT
END:VCALENDAR
