BEGIN:VCALENDAR
VERSION:2.0
METHOD:PUBLISH
BEGIN:VEVENT
DTSTART:20201114T140000Z
DTEND:20201114T190000Z
LOCATION:Valrico, FL 33596
TRANSP: OPAQUE
SEQUENCE:0
UID:
DTSTAMP:20260423T144629Z
SUMMARY:ONE DAY ONLY Estate Sale in Valrico in Savannah Landing. Upscale Furniture, Decor, Handbags, Clothing and More!
DESCRIPTION:ONE DAY ONLY Estate Sale in Valrico in Savannah Landing. Upscale Furniture, Decor, Handbags, Clothing and More! Fresh Start Estate Liquidators 
UID:1776977189
STREET-ADDRESS:See website
POSTAL-CODE:33596
LOCALITY:Valrico
REGION:ABBREV=FL
COUNTRY:ABBREV=US;ABBREV=USA:United States
URL;TYPE=Event Listing:https://estatesales.org/estate-sales/fl/valrico/33596/one-day-only-estate-sale-1844741
PRIORITY:1
CLASS:PUBLIC
SEQUENCE:0
STATUS:CONFIRMED
TRANSP:OPAQUE
END:VEVENT
END:VCALENDAR
