BEGIN:VCALENDAR
VERSION:2.0
METHOD:PUBLISH
BEGIN:VEVENT
DTSTART:20191114T140000Z
DTEND:20191116T200000Z
LOCATION:Dunnellon, FL 34433
TRANSP: OPAQUE
SEQUENCE:0
UID:
DTSTAMP:20260420T061044Z
SUMMARY:Timeless decor and more in Dunnellon just for you! 
DESCRIPTION:Timeless decor and more in Dunnellon just for you!  Justice League Estate Sales 
UID:1776687044
STREET-ADDRESS:See website
POSTAL-CODE:34433
LOCALITY:Dunnellon
REGION:ABBREV=FL
COUNTRY:ABBREV=US;ABBREV=USA:United States
URL;TYPE=Event Listing:https://estatesales.org/estate-sales/fl/dunnellon/34433/timeless-decor-and-more-in-1732783
PRIORITY:1
CLASS:PUBLIC
SEQUENCE:0
STATUS:CONFIRMED
TRANSP:OPAQUE
END:VEVENT
END:VCALENDAR
