BEGIN:VCALENDAR
VERSION:2.0
METHOD:PUBLISH
BEGIN:VEVENT
DTSTART:20251113T160000Z
DTEND:20251115T210000Z
LOCATION:Denver, CO 80209
TRANSP: OPAQUE
SEQUENCE:0
UID:
DTSTAMP:20260419T061832Z
SUMMARY:Grasons of SW Denver presents: Vintage in Wash Park
DESCRIPTION:Grasons of SW Denver presents: Vintage in Wash Park Grasons of Southwest Denver, CO 
UID:1776601112
STREET-ADDRESS:See website
POSTAL-CODE:80209
LOCALITY:Denver
REGION:ABBREV=CO
COUNTRY:ABBREV=US;ABBREV=USA:United States
URL;TYPE=Event Listing:https://estatesales.org/estate-sales/co/denver/80209/grasons-of-sw-denver-presents-2411747
PRIORITY:1
CLASS:PUBLIC
SEQUENCE:0
STATUS:CONFIRMED
TRANSP:OPAQUE
END:VEVENT
END:VCALENDAR
