BEGIN:VCALENDAR
VERSION:2.0
METHOD:PUBLISH
BEGIN:VEVENT
DTSTART:20251113T140000Z
DTEND:20251114T200000Z
LOCATION:New Milford, NJ 07646
TRANSP: OPAQUE
SEQUENCE:0
UID:
DTSTAMP:20260423T130249Z
SUMMARY:Town & Country Estate Sales
DESCRIPTION:Town & Country Estate Sales Town & Country Estate & Moving Sales 
UID:1776970969
STREET-ADDRESS:See website
POSTAL-CODE:07646
LOCALITY:New Milford
REGION:ABBREV=NJ
COUNTRY:ABBREV=US;ABBREV=USA:United States
URL;TYPE=Event Listing:https://estatesales.org/estate-sales/nj/new-milford-/07646/town-country-estate-sales-2412057
PRIORITY:1
CLASS:PUBLIC
SEQUENCE:0
STATUS:CONFIRMED
TRANSP:OPAQUE
END:VEVENT
END:VCALENDAR
