BEGIN:VCALENDAR
VERSION:2.0
METHOD:PUBLISH
BEGIN:VEVENT
DTSTART:20251113T160000Z
DTEND:20251113T210000Z
LOCATION:Norman, OK 73072
TRANSP: OPAQUE
SEQUENCE:0
UID:
DTSTAMP:20260425T113046Z
SUMMARY:Picker Sale in South West Norman
DESCRIPTION:Picker Sale in South West Norman Vincent Estate Sales 
UID:1777138246
STREET-ADDRESS:See website
POSTAL-CODE:73072
LOCALITY:Norman
REGION:ABBREV=OK
COUNTRY:ABBREV=US;ABBREV=USA:United States
URL;TYPE=Event Listing:https://estatesales.org/estate-sales/ok/norman/73072/picker-sale-in-south-west-2412226
PRIORITY:1
CLASS:PUBLIC
SEQUENCE:0
STATUS:CONFIRMED
TRANSP:OPAQUE
END:VEVENT
END:VCALENDAR
