BEGIN:VCALENDAR
VERSION:2.0
METHOD:PUBLISH
BEGIN:VEVENT
DTSTART:20211113T170000Z
DTEND:20211114T230000Z
LOCATION:Los Angeles, CA 91367
TRANSP: OPAQUE
SEQUENCE:0
UID:
DTSTAMP:20260420T021622Z
SUMMARY:World Travelers Moving Sale. 3000 Sq ft of Pristine Antiques, Collectibles, Décor, Moving and All must Go! 1000's of Items.
DESCRIPTION:World Travelers Moving Sale. 3000 Sq ft of Pristine Antiques, Collectibles, Décor, Moving and All must Go! 1000's of Items. Triumphant Estate Sales of Los Angeles 
UID:1776672982
STREET-ADDRESS:See website
POSTAL-CODE:91367
LOCALITY:Los Angeles
REGION:ABBREV=CA
COUNTRY:ABBREV=US;ABBREV=USA:United States
URL;TYPE=Event Listing:https://estatesales.org/estate-sales/ca/los-angeles/91367/world-travelers-moving-sale-3000-1980587
PRIORITY:1
CLASS:PUBLIC
SEQUENCE:0
STATUS:CONFIRMED
TRANSP:OPAQUE
END:VEVENT
END:VCALENDAR
