BEGIN:VCALENDAR
VERSION:2.0
METHOD:PUBLISH
BEGIN:VEVENT
DTSTART:20211113T130000Z
DTEND:20211114T200000Z
LOCATION:Jackson, MO 63755
TRANSP: OPAQUE
SEQUENCE:0
UID:
DTSTAMP:20260419T163830Z
SUMMARY:Great sale- furniture, antiques, household and more! Clean contents!
DESCRIPTION:Great sale- furniture, antiques, household and more! Clean contents! Lizzy Lou Estate Sales, LLC 
UID:1776638310
STREET-ADDRESS:See website
POSTAL-CODE:63755
LOCALITY:Jackson
REGION:ABBREV=MO
COUNTRY:ABBREV=US;ABBREV=USA:United States
URL;TYPE=Event Listing:https://estatesales.org/estate-sales/mo/jackson/63755/great-sale-furniture-antiques-household-1979699
PRIORITY:1
CLASS:PUBLIC
SEQUENCE:0
STATUS:CONFIRMED
TRANSP:OPAQUE
END:VEVENT
END:VCALENDAR
