BEGIN:VCALENDAR
VERSION:2.0
METHOD:PUBLISH
BEGIN:VEVENT
DTSTART:20201113T140000Z
DTEND:20201115T210000Z
LOCATION:Bellport, NY 11713
TRANSP: OPAQUE
SEQUENCE:0
UID:
DTSTAMP:20260422T123229Z
SUMMARY:Luxury Home Decor in Historic 1858 Bellport Whole House Contents must GO!
DESCRIPTION:Luxury Home Decor in Historic 1858 Bellport Whole House Contents must GO! Bellport Jewelers & Rarities 
UID:1776882749
STREET-ADDRESS:See website
POSTAL-CODE:11713
LOCALITY:Bellport
REGION:ABBREV=NY
COUNTRY:ABBREV=US;ABBREV=USA:United States
URL;TYPE=Event Listing:https://estatesales.org/estate-sales/ny/bellport/11713/luxury-home-decor-in-historic-1844013
PRIORITY:1
CLASS:PUBLIC
SEQUENCE:0
STATUS:CONFIRMED
TRANSP:OPAQUE
END:VEVENT
END:VCALENDAR
