BEGIN:VCALENDAR
VERSION:2.0
METHOD:PUBLISH
BEGIN:VEVENT
DTSTART:20191113T170000Z
DTEND:20191116T230000Z
LOCATION:Midlothian, TX 76065
TRANSP: OPAQUE
SEQUENCE:0
UID:
DTSTAMP:20260424T214954Z
SUMMARY:Lakeside Estate Sale in Midlothian, TX
DESCRIPTION:Lakeside Estate Sale in Midlothian, TX Lakeside Estate Sales, CGL LLC. 
UID:1777088994
STREET-ADDRESS:See website
POSTAL-CODE:76065
LOCALITY:Midlothian
REGION:ABBREV=TX
COUNTRY:ABBREV=US;ABBREV=USA:United States
URL;TYPE=Event Listing:https://estatesales.org/estate-sales/tx/midlothian/76065/lakeside-estate-sale-in-midlothian-1731907
PRIORITY:1
CLASS:PUBLIC
SEQUENCE:0
STATUS:CONFIRMED
TRANSP:OPAQUE
END:VEVENT
END:VCALENDAR
