BEGIN:VCALENDAR
VERSION:2.0
METHOD:PUBLISH
BEGIN:VEVENT
DTSTART:20221111T180000Z
DTEND:20221113T220000Z
LOCATION:Marina, CA 93933
TRANSP: OPAQUE
SEQUENCE:0
UID:
DTSTAMP:20260421T115742Z
SUMMARY:Marina Estate Sale 
DESCRIPTION:Marina Estate Sale  A Move Made SImple 
UID:1776794262
STREET-ADDRESS:See website
POSTAL-CODE:93933
LOCALITY:Marina
REGION:ABBREV=CA
COUNTRY:ABBREV=US;ABBREV=USA:United States
URL;TYPE=Event Listing:https://estatesales.org/estate-sales/ca/marina/93933/marina-estate-sale-2120085
PRIORITY:1
CLASS:PUBLIC
SEQUENCE:0
STATUS:CONFIRMED
TRANSP:OPAQUE
END:VEVENT
END:VCALENDAR
