BEGIN:VCALENDAR
VERSION:2.0
METHOD:PUBLISH
BEGIN:VEVENT
DTSTART:20221111T150000Z
DTEND:20221112T200000Z
LOCATION:Casselberry, FL 32707
TRANSP: OPAQUE
SEQUENCE:0
UID:
DTSTAMP:20260419T103908Z
SUMMARY:50% at 1:00 on Sat. Christmas Ornaments, Shoes, Clothes, and Furniture Galore! In Casselberry
DESCRIPTION:50% at 1:00 on Sat. Christmas Ornaments, Shoes, Clothes, and Furniture Galore! In Casselberry Estate Sale Stars 
UID:1776616748
STREET-ADDRESS:See website
POSTAL-CODE:32707
LOCALITY:Casselberry
REGION:ABBREV=FL
COUNTRY:ABBREV=US;ABBREV=USA:United States
URL;TYPE=Event Listing:https://estatesales.org/estate-sales/fl/casselberry/32707/50-at-100-on-sat-2098383
PRIORITY:1
CLASS:PUBLIC
SEQUENCE:0
STATUS:CONFIRMED
TRANSP:OPAQUE
END:VEVENT
END:VCALENDAR
