BEGIN:VCALENDAR
VERSION:2.0
METHOD:PUBLISH
BEGIN:VEVENT
DTSTART:20221111T200000Z
DTEND:20221113T210000Z
LOCATION:Harbor Springs, MI 49740
TRANSP: OPAQUE
SEQUENCE:0
UID:
DTSTAMP:20260423T233537Z
SUMMARY:Guillaume Estate Sale 
DESCRIPTION:Guillaume Estate Sale  Black River Estate Sales 
UID:1777008937
STREET-ADDRESS:See website
POSTAL-CODE:49740
LOCALITY:Harbor Springs
REGION:ABBREV=MI
COUNTRY:ABBREV=US;ABBREV=USA:United States
URL;TYPE=Event Listing:https://estatesales.org/estate-sales/mi/harbor-springs/49740/guillaume-estate-sale-2118705
PRIORITY:1
CLASS:PUBLIC
SEQUENCE:0
STATUS:CONFIRMED
TRANSP:OPAQUE
END:VEVENT
END:VCALENDAR
