BEGIN:VCALENDAR
VERSION:2.0
METHOD:PUBLISH
BEGIN:VEVENT
DTSTART:20211111T140000Z
DTEND:20211111T210000Z
LOCATION:Bancroft, MI 48414
TRANSP: OPAQUE
SEQUENCE:0
UID:
DTSTAMP:20260423T233440Z
SUMMARY:A SALE THAT IS FULL OF SURPRISES IN BANCROFT, MI.
DESCRIPTION:A SALE THAT IS FULL OF SURPRISES IN BANCROFT, MI. Caring Transitions of S.E. Michigan 
UID:1777008880
STREET-ADDRESS:See website
POSTAL-CODE:48414
LOCALITY:Bancroft
REGION:ABBREV=MI
COUNTRY:ABBREV=US;ABBREV=USA:United States
URL;TYPE=Event Listing:https://estatesales.org/estate-sales/mi/bancroft/48414/a-sale-that-is-full-1980407
PRIORITY:1
CLASS:PUBLIC
SEQUENCE:0
STATUS:CONFIRMED
TRANSP:OPAQUE
END:VEVENT
END:VCALENDAR
