BEGIN:VCALENDAR
VERSION:2.0
METHOD:PUBLISH
BEGIN:VEVENT
DTSTART:20201111T150000Z
DTEND:20201114T210000Z
LOCATION:Fairfield, TX 75840
TRANSP: OPAQUE
SEQUENCE:0
UID:
DTSTAMP:20260424T215844Z
SUMMARY:Lakeside Estate Sale, LLC "The Estate of Dr. Keller" in Fairfield, TX 75840
DESCRIPTION:Lakeside Estate Sale, LLC "The Estate of Dr. Keller" in Fairfield, TX 75840 Lakeside Estate Sales, CGL LLC. 
UID:1777089524
STREET-ADDRESS:See website
POSTAL-CODE:75840
LOCALITY:Fairfield
REGION:ABBREV=TX
COUNTRY:ABBREV=US;ABBREV=USA:United States
URL;TYPE=Event Listing:https://estatesales.org/estate-sales/tx/fairfield/75840/lakeside-estate-sale-llc-the-1841279
PRIORITY:1
CLASS:PUBLIC
SEQUENCE:0
STATUS:CONFIRMED
TRANSP:OPAQUE
END:VEVENT
END:VCALENDAR
