BEGIN:VCALENDAR
VERSION:2.0
METHOD:PUBLISH
BEGIN:VEVENT
DTSTART:20161111T140000Z
DTEND:20161112T210000Z
LOCATION:Ballwin, MO 63011
TRANSP: OPAQUE
SEQUENCE:0
UID:
DTSTAMP:20260419T105904Z
SUMMARY:Ballwin, MO Estate Sale by Pennies In Your Pocket
DESCRIPTION:Ballwin, MO Estate Sale by Pennies In Your Pocket Pennies In Your Pocket Estate Sale and Appraisal Services 
UID:1776617944
STREET-ADDRESS:See website
POSTAL-CODE:63011
LOCALITY:Ballwin
REGION:ABBREV=MO
COUNTRY:ABBREV=US;ABBREV=USA:United States
URL;TYPE=Event Listing:https://estatesales.org/estate-sales/mo/ballwin/63011/ballwin-mo-estate-sale-by-1026929
PRIORITY:1
CLASS:PUBLIC
SEQUENCE:0
STATUS:CONFIRMED
TRANSP:OPAQUE
END:VEVENT
END:VCALENDAR
