BEGIN:VCALENDAR
VERSION:2.0
METHOD:PUBLISH
BEGIN:VEVENT
DTSTART:20231110T150000Z
DTEND:20231111T190000Z
LOCATION:Clearwater, FL 33756
TRANSP: OPAQUE
SEQUENCE:0
UID:
DTSTAMP:20260420T161955Z
SUMMARY:Outside Downsizing Liquidation Sale
DESCRIPTION:Outside Downsizing Liquidation Sale BNG TREASURES 
UID:1776723595
STREET-ADDRESS:See website
POSTAL-CODE:33756
LOCALITY:Clearwater
REGION:ABBREV=FL
COUNTRY:ABBREV=US;ABBREV=USA:United States
URL;TYPE=Event Listing:https://estatesales.org/estate-sales/fl/clearwater/33756/outside-downsizing-liquidation-sale-2245299
PRIORITY:1
CLASS:PUBLIC
SEQUENCE:0
STATUS:CONFIRMED
TRANSP:OPAQUE
END:VEVENT
END:VCALENDAR
