BEGIN:VCALENDAR
VERSION:2.0
METHOD:PUBLISH
BEGIN:VEVENT
DTSTART:20221110T140000Z
DTEND:20221112T210000Z
LOCATION:Ovid, MI 48866
TRANSP: OPAQUE
SEQUENCE:0
UID:
DTSTAMP:20260423T233440Z
SUMMARY:Fantastic Two Day Sale in Ovid, Michigan Thursday November 10 & 12, 2022 from 9-4 pm 
DESCRIPTION:Fantastic Two Day Sale in Ovid, Michigan Thursday November 10 & 12, 2022 from 9-4 pm  Caring Transitions of S.E. Michigan 
UID:1777008880
STREET-ADDRESS:See website
POSTAL-CODE:48866
LOCALITY:Ovid
REGION:ABBREV=MI
COUNTRY:ABBREV=US;ABBREV=USA:United States
URL;TYPE=Event Listing:https://estatesales.org/estate-sales/mi/ovid/48866/fantastic-two-day-sale-in-2118229
PRIORITY:1
CLASS:PUBLIC
SEQUENCE:0
STATUS:CONFIRMED
TRANSP:OPAQUE
END:VEVENT
END:VCALENDAR
